BEGIN:VCALENDAR
VERSION:2.0
PRODID:-//Town of Strafford NH - ECPv6.15.20//NONSGML v1.0//EN
CALSCALE:GREGORIAN
METHOD:PUBLISH
X-WR-CALNAME:Town of Strafford NH
X-ORIGINAL-URL:https://strafford.nh.gov
X-WR-CALDESC:Events for Town of Strafford NH
REFRESH-INTERVAL;VALUE=DURATION:PT1H
X-Robots-Tag:noindex
X-PUBLISHED-TTL:PT1H
BEGIN:VTIMEZONE
TZID:America/New_York
BEGIN:DAYLIGHT
TZOFFSETFROM:-0500
TZOFFSETTO:-0400
TZNAME:EDT
DTSTART:20220313T070000
END:DAYLIGHT
BEGIN:STANDARD
TZOFFSETFROM:-0400
TZOFFSETTO:-0500
TZNAME:EST
DTSTART:20221106T060000
END:STANDARD
BEGIN:DAYLIGHT
TZOFFSETFROM:-0500
TZOFFSETTO:-0400
TZNAME:EDT
DTSTART:20230312T070000
END:DAYLIGHT
BEGIN:STANDARD
TZOFFSETFROM:-0400
TZOFFSETTO:-0500
TZNAME:EST
DTSTART:20231105T060000
END:STANDARD
BEGIN:DAYLIGHT
TZOFFSETFROM:-0500
TZOFFSETTO:-0400
TZNAME:EDT
DTSTART:20240310T070000
END:DAYLIGHT
BEGIN:STANDARD
TZOFFSETFROM:-0400
TZOFFSETTO:-0500
TZNAME:EST
DTSTART:20241103T060000
END:STANDARD
END:VTIMEZONE
BEGIN:VEVENT
DTSTART;TZID=America/New_York:20230321T173000
DTEND;TZID=America/New_York:20230321T173000
DTSTAMP:20260423T163309
CREATED:20221122T000029Z
LAST-MODIFIED:20221122T000029Z
UID:7078-1679419800-1679419800@strafford.nh.gov
SUMMARY:Board of Selectmen Meeting
DESCRIPTION:
URL:https://strafford.nh.gov/event/board-of-selectmen-meeting-25/
END:VEVENT
BEGIN:VEVENT
DTSTART;TZID=America/New_York:20230321T183000
DTEND;TZID=America/New_York:20230321T183000
DTSTAMP:20260423T163309
CREATED:20230302T145208Z
LAST-MODIFIED:20230302T145208Z
UID:8295-1679423400-1679423400@strafford.nh.gov
SUMMARY:Planning Board Work Session Master Plan
DESCRIPTION:
URL:https://strafford.nh.gov/event/planning-board-work-session-master-plan/
END:VEVENT
END:VCALENDAR