BEGIN:VCALENDAR
VERSION:2.0
PRODID:-//Town of Strafford NH - ECPv6.15.20//NONSGML v1.0//EN
CALSCALE:GREGORIAN
METHOD:PUBLISH
X-ORIGINAL-URL:https://strafford.nh.gov
X-WR-CALDESC:Events for Town of Strafford NH
REFRESH-INTERVAL;VALUE=DURATION:PT1H
X-Robots-Tag:noindex
X-PUBLISHED-TTL:PT1H
BEGIN:VTIMEZONE
TZID:America/New_York
BEGIN:DAYLIGHT
TZOFFSETFROM:-0500
TZOFFSETTO:-0400
TZNAME:EDT
DTSTART:20220313T070000
END:DAYLIGHT
BEGIN:STANDARD
TZOFFSETFROM:-0400
TZOFFSETTO:-0500
TZNAME:EST
DTSTART:20221106T060000
END:STANDARD
BEGIN:DAYLIGHT
TZOFFSETFROM:-0500
TZOFFSETTO:-0400
TZNAME:EDT
DTSTART:20230312T070000
END:DAYLIGHT
BEGIN:STANDARD
TZOFFSETFROM:-0400
TZOFFSETTO:-0500
TZNAME:EST
DTSTART:20231105T060000
END:STANDARD
BEGIN:DAYLIGHT
TZOFFSETFROM:-0500
TZOFFSETTO:-0400
TZNAME:EDT
DTSTART:20240310T070000
END:DAYLIGHT
BEGIN:STANDARD
TZOFFSETFROM:-0400
TZOFFSETTO:-0500
TZNAME:EST
DTSTART:20241103T060000
END:STANDARD
END:VTIMEZONE
BEGIN:VEVENT
DTSTART;TZID=America/New_York:20230406T170000
DTEND;TZID=America/New_York:20230406T170000
DTSTAMP:20260423T190705
CREATED:20230330T112024Z
LAST-MODIFIED:20230330T112024Z
UID:8629-1680800400-1680800400@strafford.nh.gov
SUMMARY:Planning Board Site Walk
DESCRIPTION:
URL:https://strafford.nh.gov/event/planning-board-site-walk-3/
END:VEVENT
BEGIN:VEVENT
DTSTART;TZID=America/New_York:20230406T183000
DTEND;TZID=America/New_York:20230406T183000
DTSTAMP:20260423T190705
CREATED:20221122T003846Z
LAST-MODIFIED:20221222T123557Z
UID:7146-1680805800-1680805800@strafford.nh.gov
SUMMARY:Planning Board Meeting
DESCRIPTION:
URL:https://strafford.nh.gov/event/planning-board-meeting-12/
END:VEVENT
END:VCALENDAR