BEGIN:VCALENDAR
VERSION:2.0
PRODID:-//Town of Strafford NH - ECPv6.15.20//NONSGML v1.0//EN
CALSCALE:GREGORIAN
METHOD:PUBLISH
X-WR-CALNAME:Town of Strafford NH
X-ORIGINAL-URL:https://strafford.nh.gov
X-WR-CALDESC:Events for Town of Strafford NH
REFRESH-INTERVAL;VALUE=DURATION:PT1H
X-Robots-Tag:noindex
X-PUBLISHED-TTL:PT1H
BEGIN:VTIMEZONE
TZID:America/New_York
BEGIN:DAYLIGHT
TZOFFSETFROM:-0500
TZOFFSETTO:-0400
TZNAME:EDT
DTSTART:20240310T070000
END:DAYLIGHT
BEGIN:STANDARD
TZOFFSETFROM:-0400
TZOFFSETTO:-0500
TZNAME:EST
DTSTART:20241103T060000
END:STANDARD
BEGIN:DAYLIGHT
TZOFFSETFROM:-0500
TZOFFSETTO:-0400
TZNAME:EDT
DTSTART:20250309T070000
END:DAYLIGHT
BEGIN:STANDARD
TZOFFSETFROM:-0400
TZOFFSETTO:-0500
TZNAME:EST
DTSTART:20251102T060000
END:STANDARD
BEGIN:DAYLIGHT
TZOFFSETFROM:-0500
TZOFFSETTO:-0400
TZNAME:EDT
DTSTART:20260308T070000
END:DAYLIGHT
BEGIN:STANDARD
TZOFFSETFROM:-0400
TZOFFSETTO:-0500
TZNAME:EST
DTSTART:20261101T060000
END:STANDARD
END:VTIMEZONE
BEGIN:VEVENT
DTSTART;TZID=America/New_York:20250301T110000
DTEND;TZID=America/New_York:20250301T113000
DTSTAMP:20260425T092648
CREATED:20250112T033222Z
LAST-MODIFIED:20250112T033222Z
UID:14106-1740826800-1740828600@strafford.nh.gov
SUMMARY:Last Day to Register to Vote (you may register Election Day)
DESCRIPTION:
URL:https://strafford.nh.gov/event/last-day-to-register-to-vote-you-may-register-election-day/
END:VEVENT
BEGIN:VEVENT
DTSTART;TZID=America/New_York:20250301T110000
DTEND;TZID=America/New_York:20250301T113000
DTSTAMP:20260425T092648
CREATED:20250112T034024Z
LAST-MODIFIED:20250112T034024Z
UID:14111-1740826800-1740828600@strafford.nh.gov
SUMMARY:Supervisors of the Checklist
DESCRIPTION:
URL:https://strafford.nh.gov/event/supervisors-of-the-checklist-27/
END:VEVENT
END:VCALENDAR