BEGIN:VCALENDAR
VERSION:2.0
PRODID:-//Town of Strafford NH - ECPv6.15.20//NONSGML v1.0//EN
CALSCALE:GREGORIAN
METHOD:PUBLISH
X-WR-CALNAME:Town of Strafford NH
X-ORIGINAL-URL:https://strafford.nh.gov
X-WR-CALDESC:Events for Town of Strafford NH
REFRESH-INTERVAL;VALUE=DURATION:PT1H
X-Robots-Tag:noindex
X-PUBLISHED-TTL:PT1H
BEGIN:VTIMEZONE
TZID:America/New_York
BEGIN:DAYLIGHT
TZOFFSETFROM:-0500
TZOFFSETTO:-0400
TZNAME:EDT
DTSTART:20250309T070000
END:DAYLIGHT
BEGIN:STANDARD
TZOFFSETFROM:-0400
TZOFFSETTO:-0500
TZNAME:EST
DTSTART:20251102T060000
END:STANDARD
BEGIN:DAYLIGHT
TZOFFSETFROM:-0500
TZOFFSETTO:-0400
TZNAME:EDT
DTSTART:20260308T070000
END:DAYLIGHT
BEGIN:STANDARD
TZOFFSETFROM:-0400
TZOFFSETTO:-0500
TZNAME:EST
DTSTART:20261101T060000
END:STANDARD
BEGIN:DAYLIGHT
TZOFFSETFROM:-0500
TZOFFSETTO:-0400
TZNAME:EDT
DTSTART:20270314T070000
END:DAYLIGHT
BEGIN:STANDARD
TZOFFSETFROM:-0400
TZOFFSETTO:-0500
TZNAME:EST
DTSTART:20271107T060000
END:STANDARD
END:VTIMEZONE
BEGIN:VEVENT
DTSTART;TZID=America/New_York:20260228T110000
DTEND;TZID=America/New_York:20260228T113000
DTSTAMP:20260423T163309
CREATED:20260115T220846Z
LAST-MODIFIED:20260115T220846Z
UID:16149-1772276400-1772278200@strafford.nh.gov
SUMMARY:Supervisors of the Checklist
DESCRIPTION:
URL:https://strafford.nh.gov/event/supervisors-of-the-checklist-33/
END:VEVENT
BEGIN:VEVENT
DTSTART;TZID=America/New_York:20260228T110000
DTEND;TZID=America/New_York:20260228T113000
DTSTAMP:20260423T163309
CREATED:20260131T145521Z
LAST-MODIFIED:20260131T145521Z
UID:16327-1772276400-1772278200@strafford.nh.gov
SUMMARY:Last day to reg to vote before 3/10 Election
DESCRIPTION:
URL:https://strafford.nh.gov/event/last-day-to-reg-to-vote-before-3-10-election/
END:VEVENT
END:VCALENDAR