BEGIN:VCALENDAR
VERSION:2.0
PRODID:-//Town of Strafford NH - ECPv6.15.20//NONSGML v1.0//EN
CALSCALE:GREGORIAN
METHOD:PUBLISH
X-ORIGINAL-URL:https://strafford.nh.gov
X-WR-CALDESC:Events for Town of Strafford NH
REFRESH-INTERVAL;VALUE=DURATION:PT1H
X-Robots-Tag:noindex
X-PUBLISHED-TTL:PT1H
BEGIN:VTIMEZONE
TZID:America/New_York
BEGIN:DAYLIGHT
TZOFFSETFROM:-0500
TZOFFSETTO:-0400
TZNAME:EDT
DTSTART:20220313T070000
END:DAYLIGHT
BEGIN:STANDARD
TZOFFSETFROM:-0400
TZOFFSETTO:-0500
TZNAME:EST
DTSTART:20221106T060000
END:STANDARD
BEGIN:DAYLIGHT
TZOFFSETFROM:-0500
TZOFFSETTO:-0400
TZNAME:EDT
DTSTART:20230312T070000
END:DAYLIGHT
BEGIN:STANDARD
TZOFFSETFROM:-0400
TZOFFSETTO:-0500
TZNAME:EST
DTSTART:20231105T060000
END:STANDARD
BEGIN:DAYLIGHT
TZOFFSETFROM:-0500
TZOFFSETTO:-0400
TZNAME:EDT
DTSTART:20240310T070000
END:DAYLIGHT
BEGIN:STANDARD
TZOFFSETFROM:-0400
TZOFFSETTO:-0500
TZNAME:EST
DTSTART:20241103T060000
END:STANDARD
END:VTIMEZONE
BEGIN:VEVENT
DTSTART;TZID=America/New_York:20230125T083000
DTEND;TZID=America/New_York:20230203T170000
DTSTAMP:20260423T122533
CREATED:20221206T112718Z
LAST-MODIFIED:20221206T113703Z
UID:7300-1674635400-1675443600@strafford.nh.gov
SUMMARY:Candidacy Filing (Town&School)During TC Reg Hours
DESCRIPTION:
URL:https://strafford.nh.gov/event/candidacy-filing-townschool/
END:VEVENT
BEGIN:VEVENT
DTSTART;TZID=America/New_York:20230201T163000
DTEND;TZID=America/New_York:20230201T163000
DTSTAMP:20260423T122533
CREATED:20230125T141529Z
LAST-MODIFIED:20230125T141529Z
UID:7801-1675269000-1675269000@strafford.nh.gov
SUMMARY:Board of Selectmen Work Session
DESCRIPTION:
URL:https://strafford.nh.gov/event/board-of-selectmen-work-session-2/
END:VEVENT
BEGIN:VEVENT
DTSTART;TZID=America/New_York:20230202T183000
DTEND;TZID=America/New_York:20230202T183000
DTSTAMP:20260423T122533
CREATED:20221122T003306Z
LAST-MODIFIED:20221222T123705Z
UID:7134-1675362600-1675362600@strafford.nh.gov
SUMMARY:Planning Board Meeting
DESCRIPTION:
URL:https://strafford.nh.gov/event/planning-board-meeting-10/
END:VEVENT
BEGIN:VEVENT
DTSTART;TZID=America/New_York:20230203T150000
DTEND;TZID=America/New_York:20230203T170000
DTSTAMP:20260423T122533
CREATED:20221206T113000Z
LAST-MODIFIED:20221206T113358Z
UID:7302-1675436400-1675443600@strafford.nh.gov
SUMMARY:TC Open for Last Day Candidacy Filing
DESCRIPTION:
URL:https://strafford.nh.gov/event/last-day-candidacy-filing-with-town-clerk/
END:VEVENT
BEGIN:VEVENT
DTSTART;VALUE=DATE:20230204
DTEND;VALUE=DATE:20230205
DTSTAMP:20260423T122533
CREATED:20230203T082411Z
LAST-MODIFIED:20230203T082820Z
UID:8005-1675468800-1675555199@strafford.nh.gov
SUMMARY:Recycling Center Closed
DESCRIPTION:Due to Extreme Temperatures
URL:https://strafford.nh.gov/event/recycling-center-closed-2/
END:VEVENT
BEGIN:VEVENT
DTSTART;TZID=America/New_York:20230206T190000
DTEND;TZID=America/New_York:20230206T190000
DTSTAMP:20260423T122533
CREATED:20221122T003224Z
LAST-MODIFIED:20221122T003224Z
UID:7132-1675710000-1675710000@strafford.nh.gov
SUMMARY:Conservation Commission Meeting
DESCRIPTION:
URL:https://strafford.nh.gov/event/conservation-commission-meeting-10/
END:VEVENT
BEGIN:VEVENT
DTSTART;TZID=America/New_York:20230207T173000
DTEND;TZID=America/New_York:20230207T173000
DTSTAMP:20260423T122533
CREATED:20221121T235746Z
LAST-MODIFIED:20221121T235746Z
UID:7072-1675791000-1675791000@strafford.nh.gov
SUMMARY:Board of Selectmen Meeting
DESCRIPTION:
URL:https://strafford.nh.gov/event/board-of-selectmen-meeting-22/
END:VEVENT
BEGIN:VEVENT
DTSTART;TZID=America/New_York:20230213T180000
DTEND;TZID=America/New_York:20230213T180000
DTSTAMP:20260423T122533
CREATED:20230125T141736Z
LAST-MODIFIED:20230125T141736Z
UID:7803-1676311200-1676311200@strafford.nh.gov
SUMMARY:Town Budget Hearing - Town Hall
DESCRIPTION:
URL:https://strafford.nh.gov/event/town-budget-hearing-town-hall/
END:VEVENT
BEGIN:VEVENT
DTSTART;TZID=America/New_York:20230214T103000
DTEND;TZID=America/New_York:20230214T110000
DTSTAMP:20260423T122533
CREATED:20230202T230803Z
LAST-MODIFIED:20230202T230803Z
UID:7992-1676370600-1676372400@strafford.nh.gov
SUMMARY:Supervisors of the Checklist
DESCRIPTION:
URL:https://strafford.nh.gov/event/supervisors-of-the-checklist-5/
END:VEVENT
BEGIN:VEVENT
DTSTART;TZID=America/New_York:20230216T190000
DTEND;TZID=America/New_York:20230216T190000
DTSTAMP:20260423T122533
CREATED:20221122T003356Z
LAST-MODIFIED:20221122T003356Z
UID:7136-1676574000-1676574000@strafford.nh.gov
SUMMARY:Zoning Board of Adjustment Meeting
DESCRIPTION:
URL:https://strafford.nh.gov/event/zoning-board-of-adjustment-meeting-7/
END:VEVENT
BEGIN:VEVENT
DTSTART;VALUE=DATE:20230220
DTEND;VALUE=DATE:20230221
DTSTAMP:20260423T122533
CREATED:20221121T230756Z
LAST-MODIFIED:20221121T230756Z
UID:7043-1676851200-1676937599@strafford.nh.gov
SUMMARY:Town Hall Closed - Presidents' Day
DESCRIPTION:
URL:https://strafford.nh.gov/event/town-hall-closed-presidents-day/
END:VEVENT
BEGIN:VEVENT
DTSTART;TZID=America/New_York:20230221T173000
DTEND;TZID=America/New_York:20230221T173000
DTSTAMP:20260423T122533
CREATED:20221121T235848Z
LAST-MODIFIED:20221121T235848Z
UID:7074-1677000600-1677000600@strafford.nh.gov
SUMMARY:Board of Selectmen Meeting
DESCRIPTION:
URL:https://strafford.nh.gov/event/board-of-selectmen-meeting-23/
END:VEVENT
BEGIN:VEVENT
DTSTART;TZID=America/New_York:20230222T183000
DTEND;TZID=America/New_York:20230222T183000
DTSTAMP:20260423T122533
CREATED:20230222T020657Z
LAST-MODIFIED:20230222T020657Z
UID:8197-1677090600-1677090600@strafford.nh.gov
SUMMARY:Counting of Ballots
DESCRIPTION:
URL:https://strafford.nh.gov/event/counting-of-ballots/
END:VEVENT
BEGIN:VEVENT
DTSTART;TZID=America/New_York:20230223T183000
DTEND;TZID=America/New_York:20230223T183000
DTSTAMP:20260423T122533
CREATED:20230124T195335Z
LAST-MODIFIED:20230124T195335Z
UID:7794-1677177000-1677177000@strafford.nh.gov
SUMMARY:Master Plan Work Session
DESCRIPTION:
URL:https://strafford.nh.gov/event/master-plan-work-session-2/
END:VEVENT
END:VCALENDAR