BEGIN:VCALENDAR
VERSION:2.0
PRODID:-//Town of Strafford NH - ECPv6.15.20//NONSGML v1.0//EN
CALSCALE:GREGORIAN
METHOD:PUBLISH
X-ORIGINAL-URL:https://strafford.nh.gov
X-WR-CALDESC:Events for Town of Strafford NH
REFRESH-INTERVAL;VALUE=DURATION:PT1H
X-Robots-Tag:noindex
X-PUBLISHED-TTL:PT1H
BEGIN:VTIMEZONE
TZID:America/New_York
BEGIN:DAYLIGHT
TZOFFSETFROM:-0500
TZOFFSETTO:-0400
TZNAME:EDT
DTSTART:20220313T070000
END:DAYLIGHT
BEGIN:STANDARD
TZOFFSETFROM:-0400
TZOFFSETTO:-0500
TZNAME:EST
DTSTART:20221106T060000
END:STANDARD
BEGIN:DAYLIGHT
TZOFFSETFROM:-0500
TZOFFSETTO:-0400
TZNAME:EDT
DTSTART:20230312T070000
END:DAYLIGHT
BEGIN:STANDARD
TZOFFSETFROM:-0400
TZOFFSETTO:-0500
TZNAME:EST
DTSTART:20231105T060000
END:STANDARD
BEGIN:DAYLIGHT
TZOFFSETFROM:-0500
TZOFFSETTO:-0400
TZNAME:EDT
DTSTART:20240310T070000
END:DAYLIGHT
BEGIN:STANDARD
TZOFFSETFROM:-0400
TZOFFSETTO:-0500
TZNAME:EST
DTSTART:20241103T060000
END:STANDARD
END:VTIMEZONE
BEGIN:VEVENT
DTSTART;TZID=America/New_York:20230501T190000
DTEND;TZID=America/New_York:20230501T190000
DTSTAMP:20260423T190700
CREATED:20221122T004031Z
LAST-MODIFIED:20221122T004031Z
UID:7150-1682967600-1682967600@strafford.nh.gov
SUMMARY:Conservation Commission Meeting
DESCRIPTION:
URL:https://strafford.nh.gov/event/conservation-commission-meeting-13/
END:VEVENT
BEGIN:VEVENT
DTSTART;TZID=America/New_York:20230502T173000
DTEND;TZID=America/New_York:20230502T173000
DTSTAMP:20260423T190700
CREATED:20221122T000322Z
LAST-MODIFIED:20221122T000322Z
UID:7084-1683048600-1683048600@strafford.nh.gov
SUMMARY:Board of Selectmen Meeting
DESCRIPTION:
URL:https://strafford.nh.gov/event/board-of-selectmen-meeting-28/
END:VEVENT
BEGIN:VEVENT
DTSTART;TZID=America/New_York:20230504T183000
DTEND;TZID=America/New_York:20230504T183000
DTSTAMP:20260423T190700
CREATED:20221122T004113Z
LAST-MODIFIED:20221222T123510Z
UID:7152-1683225000-1683225000@strafford.nh.gov
SUMMARY:Planning Board Meeting
DESCRIPTION:
URL:https://strafford.nh.gov/event/planning-board-meeting-13/
END:VEVENT
BEGIN:VEVENT
DTSTART;TZID=America/New_York:20230509T183000
DTEND;TZID=America/New_York:20230509T183000
DTSTAMP:20260423T190700
CREATED:20230508T233852Z
LAST-MODIFIED:20230508T233852Z
UID:8894-1683657000-1683657000@strafford.nh.gov
SUMMARY:Planning Board Work Session
DESCRIPTION:
URL:https://strafford.nh.gov/event/planning-board-work-session-3/
END:VEVENT
BEGIN:VEVENT
DTSTART;TZID=America/New_York:20230516T173000
DTEND;TZID=America/New_York:20230516T173000
DTSTAMP:20260423T190700
CREATED:20221122T000401Z
LAST-MODIFIED:20221122T000401Z
UID:7086-1684258200-1684258200@strafford.nh.gov
SUMMARY:Board of Selectmen Meeting
DESCRIPTION:
URL:https://strafford.nh.gov/event/board-of-selectmen-meeting-29/
END:VEVENT
BEGIN:VEVENT
DTSTART;TZID=America/New_York:20230518T190000
DTEND;TZID=America/New_York:20230518T190000
DTSTAMP:20260423T190700
CREATED:20221122T004222Z
LAST-MODIFIED:20221122T004222Z
UID:7154-1684436400-1684436400@strafford.nh.gov
SUMMARY:Zoning Board of Adjustment Meeting
DESCRIPTION:
URL:https://strafford.nh.gov/event/zoning-board-of-adjustment-meeting-10/
END:VEVENT
BEGIN:VEVENT
DTSTART;TZID=America/New_York:20230520T083000
DTEND;TZID=America/New_York:20230520T123000
DTSTAMP:20260423T190700
CREATED:20230222T183954Z
LAST-MODIFIED:20230222T183954Z
UID:8217-1684571400-1684585800@strafford.nh.gov
SUMMARY:Hazardous Waste Day - Turnkey Landfill Rochester
DESCRIPTION:
URL:https://strafford.nh.gov/event/hazardous-waste-day-turnkey-landfill-rochester/
END:VEVENT
BEGIN:VEVENT
DTSTART;TZID=America/New_York:20230523T183000
DTEND;TZID=America/New_York:20230523T183000
DTSTAMP:20260423T190700
CREATED:20230504T224221Z
LAST-MODIFIED:20230504T224703Z
UID:8840-1684866600-1684866600@strafford.nh.gov
SUMMARY:Planning Board Work Session Master Plan
DESCRIPTION:
URL:https://strafford.nh.gov/event/pb-master-planning/
END:VEVENT
BEGIN:VEVENT
DTSTART;TZID=America/New_York:20230525T103000
DTEND;TZID=America/New_York:20230525T110000
DTSTAMP:20260423T190700
CREATED:20230411T140949Z
LAST-MODIFIED:20230411T140949Z
UID:8704-1685010600-1685012400@strafford.nh.gov
SUMMARY:Supervisors of the Checklist
DESCRIPTION:
URL:https://strafford.nh.gov/event/supervisors-of-the-checklist-9/
END:VEVENT
BEGIN:VEVENT
DTSTART;TZID=America/New_York:20230525T110000
DTEND;TZID=America/New_York:20230525T160000
DTSTAMP:20260423T190700
CREATED:20230526T030515Z
LAST-MODIFIED:20230526T030515Z
UID:9040-1685012400-1685030400@strafford.nh.gov
SUMMARY:TC Office Hours
DESCRIPTION:
URL:https://strafford.nh.gov/event/tc-office-hours/
END:VEVENT
BEGIN:VEVENT
DTSTART;VALUE=DATE:20230529
DTEND;VALUE=DATE:20230530
DTSTAMP:20260423T190700
CREATED:20221121T231216Z
LAST-MODIFIED:20221121T231216Z
UID:7051-1685318400-1685404799@strafford.nh.gov
SUMMARY:Town Hall Closed - Memorial Day
DESCRIPTION:
URL:https://strafford.nh.gov/event/town-hall-closed-memorial-day/
END:VEVENT
BEGIN:VEVENT
DTSTART;TZID=America/New_York:20230529T113000
DTEND;TZID=America/New_York:20230529T113000
DTSTAMP:20260423T190700
CREATED:20230509T150223Z
LAST-MODIFIED:20230509T150223Z
UID:8913-1685359800-1685359800@strafford.nh.gov
SUMMARY:Memorial Day Parade (Beaver Rd to Grange)
DESCRIPTION:
URL:https://strafford.nh.gov/event/memorial-day-parade-beaver-rd-to-grange/
END:VEVENT
BEGIN:VEVENT
DTSTART;TZID=America/New_York:20230530T173000
DTEND;TZID=America/New_York:20230530T173000
DTSTAMP:20260423T190701
CREATED:20221122T000451Z
LAST-MODIFIED:20221122T000451Z
UID:7088-1685467800-1685467800@strafford.nh.gov
SUMMARY:Board of Selectmen Meeting
DESCRIPTION:
URL:https://strafford.nh.gov/event/board-of-selectmen-meeting-30/
END:VEVENT
END:VCALENDAR