BEGIN:VCALENDAR
VERSION:2.0
PRODID:-//Town of Strafford NH - ECPv6.15.20//NONSGML v1.0//EN
CALSCALE:GREGORIAN
METHOD:PUBLISH
X-WR-CALNAME:Town of Strafford NH
X-ORIGINAL-URL:https://strafford.nh.gov
X-WR-CALDESC:Events for Town of Strafford NH
REFRESH-INTERVAL;VALUE=DURATION:PT1H
X-Robots-Tag:noindex
X-PUBLISHED-TTL:PT1H
BEGIN:VTIMEZONE
TZID:America/New_York
BEGIN:DAYLIGHT
TZOFFSETFROM:-0500
TZOFFSETTO:-0400
TZNAME:EDT
DTSTART:20240310T070000
END:DAYLIGHT
BEGIN:STANDARD
TZOFFSETFROM:-0400
TZOFFSETTO:-0500
TZNAME:EST
DTSTART:20241103T060000
END:STANDARD
BEGIN:DAYLIGHT
TZOFFSETFROM:-0500
TZOFFSETTO:-0400
TZNAME:EDT
DTSTART:20250309T070000
END:DAYLIGHT
BEGIN:STANDARD
TZOFFSETFROM:-0400
TZOFFSETTO:-0500
TZNAME:EST
DTSTART:20251102T060000
END:STANDARD
BEGIN:DAYLIGHT
TZOFFSETFROM:-0500
TZOFFSETTO:-0400
TZNAME:EDT
DTSTART:20260308T070000
END:DAYLIGHT
BEGIN:STANDARD
TZOFFSETFROM:-0400
TZOFFSETTO:-0500
TZNAME:EST
DTSTART:20261101T060000
END:STANDARD
END:VTIMEZONE
BEGIN:VEVENT
DTSTART;VALUE=DATE:20250101
DTEND;VALUE=DATE:20250102
DTSTAMP:20260425T091630
CREATED:20240724T004245Z
LAST-MODIFIED:20240724T004245Z
UID:12874-1735689600-1735775999@strafford.nh.gov
SUMMARY:Town Hall Closed - New Year's Day
DESCRIPTION:
URL:https://strafford.nh.gov/event/town-hall-closed-new-years-day-2/
END:VEVENT
BEGIN:VEVENT
DTSTART;VALUE=DATE:20250101
DTEND;VALUE=DATE:20250102
DTSTAMP:20260425T091630
CREATED:20241206T110735Z
LAST-MODIFIED:20241206T110735Z
UID:13797-1735689600-1735775999@strafford.nh.gov
SUMMARY:Recycling Center Closed
DESCRIPTION:
URL:https://strafford.nh.gov/event/recycling-center-closed-6/
END:VEVENT
BEGIN:VEVENT
DTSTART;TZID=America/New_York:20250102T183000
DTEND;TZID=America/New_York:20250102T183000
DTSTAMP:20260425T091630
CREATED:20240929T032229Z
LAST-MODIFIED:20240929T032229Z
UID:13306-1735842600-1735842600@strafford.nh.gov
SUMMARY:Planning Board
DESCRIPTION:
URL:https://strafford.nh.gov/event/planning-board/
END:VEVENT
BEGIN:VEVENT
DTSTART;TZID=America/New_York:20250106T190000
DTEND;TZID=America/New_York:20250106T190000
DTSTAMP:20260425T091630
CREATED:20240929T031113Z
LAST-MODIFIED:20240929T031113Z
UID:13282-1736190000-1736190000@strafford.nh.gov
SUMMARY:Conservation Commission
DESCRIPTION:
URL:https://strafford.nh.gov/event/conservation-commission/
END:VEVENT
BEGIN:VEVENT
DTSTART;TZID=America/New_York:20250107T173000
DTEND;TZID=America/New_York:20250107T173000
DTSTAMP:20260425T091630
CREATED:20240929T034829Z
LAST-MODIFIED:20240929T034829Z
UID:13359-1736271000-1736271000@strafford.nh.gov
SUMMARY:Board of Selectmen
DESCRIPTION:
URL:https://strafford.nh.gov/event/board-of-selectmen-3/
END:VEVENT
BEGIN:VEVENT
DTSTART;TZID=America/New_York:20250115T173000
DTEND;TZID=America/New_York:20250115T173000
DTSTAMP:20260425T091630
CREATED:20241226T064743Z
LAST-MODIFIED:20241226T064743Z
UID:14028-1736962200-1736962200@strafford.nh.gov
SUMMARY:Board of Selectmen Work Session
DESCRIPTION:
URL:https://strafford.nh.gov/event/board-of-selectmen-work-session-12/
END:VEVENT
BEGIN:VEVENT
DTSTART;TZID=America/New_York:20250116T150000
DTEND;TZID=America/New_York:20250116T160000
DTSTAMP:20260425T091630
CREATED:20250102T101856Z
LAST-MODIFIED:20250102T173043Z
UID:14053-1737039600-1737043200@strafford.nh.gov
SUMMARY:MP SubC ArtsE @Library
DESCRIPTION:
URL:https://strafford.nh.gov/event/artse-mp-subc-library/
END:VEVENT
BEGIN:VEVENT
DTSTART;TZID=America/New_York:20250116T183000
DTEND;TZID=America/New_York:20250116T183000
DTSTAMP:20260425T091630
CREATED:20240929T033125Z
LAST-MODIFIED:20240929T033125Z
UID:13330-1737052200-1737052200@strafford.nh.gov
SUMMARY:ZBA
DESCRIPTION:
URL:https://strafford.nh.gov/event/zba/
END:VEVENT
BEGIN:VEVENT
DTSTART;VALUE=DATE:20250120
DTEND;VALUE=DATE:20250121
DTSTAMP:20260425T091630
CREATED:20240929T042746Z
LAST-MODIFIED:20240929T043049Z
UID:13415-1737331200-1737417599@strafford.nh.gov
SUMMARY:Town Hall Closed - Martin Luther King Jr Day
DESCRIPTION:
URL:https://strafford.nh.gov/event/martin-luther-king-jr-day/
END:VEVENT
BEGIN:VEVENT
DTSTART;TZID=America/New_York:20250121T173000
DTEND;TZID=America/New_York:20250121T173000
DTSTAMP:20260425T091630
CREATED:20240929T034917Z
LAST-MODIFIED:20240929T034917Z
UID:13361-1737480600-1737480600@strafford.nh.gov
SUMMARY:Board of Selectmen
DESCRIPTION:
URL:https://strafford.nh.gov/event/board-of-selectmen-4/
END:VEVENT
BEGIN:VEVENT
DTSTART;TZID=America/New_York:20250121T180000
DTEND;TZID=America/New_York:20250121T180000
DTSTAMP:20260425T091630
CREATED:20250102T172846Z
LAST-MODIFIED:20250102T173129Z
UID:14061-1737482400-1737482400@strafford.nh.gov
SUMMARY:MP SubC Library @Library
DESCRIPTION:
URL:https://strafford.nh.gov/event/mp-library-subc-library/
END:VEVENT
BEGIN:VEVENT
DTSTART;TZID=America/New_York:20250121T190000
DTEND;TZID=America/New_York:20250121T193000
DTSTAMP:20260425T091630
CREATED:20241204T210423Z
LAST-MODIFIED:20241204T210423Z
UID:13784-1737486000-1737487800@strafford.nh.gov
SUMMARY:Supervisors of the Checklist
DESCRIPTION:
URL:https://strafford.nh.gov/event/supervisors-of-the-checklist-26/
END:VEVENT
BEGIN:VEVENT
DTSTART;VALUE=DATE:20250122
DTEND;VALUE=DATE:20250201
DTSTAMP:20260425T091630
CREATED:20241110T015842Z
LAST-MODIFIED:20241110T015842Z
UID:13648-1737504000-1738367999@strafford.nh.gov
SUMMARY:Candidacy Filing Local Offices
DESCRIPTION:
URL:https://strafford.nh.gov/event/candidacy-filing-local-offices/
END:VEVENT
BEGIN:VEVENT
DTSTART;TZID=America/New_York:20250131T150000
DTEND;TZID=America/New_York:20250131T170000
DTSTAMP:20260425T091630
CREATED:20241110T020100Z
LAST-MODIFIED:20241110T020100Z
UID:13651-1738335600-1738342800@strafford.nh.gov
SUMMARY:Town Clerk Open for Candidacy Filing
DESCRIPTION:
URL:https://strafford.nh.gov/event/town-clerk-open-for-candidacy-filing/
END:VEVENT
END:VCALENDAR