BEGIN:VCALENDAR
VERSION:2.0
PRODID:-//Town of Strafford NH - ECPv6.15.20//NONSGML v1.0//EN
CALSCALE:GREGORIAN
METHOD:PUBLISH
X-ORIGINAL-URL:https://strafford.nh.gov
X-WR-CALDESC:Events for Town of Strafford NH
REFRESH-INTERVAL;VALUE=DURATION:PT1H
X-Robots-Tag:noindex
X-PUBLISHED-TTL:PT1H
BEGIN:VTIMEZONE
TZID:America/New_York
BEGIN:DAYLIGHT
TZOFFSETFROM:-0500
TZOFFSETTO:-0400
TZNAME:EDT
DTSTART:20240310T070000
END:DAYLIGHT
BEGIN:STANDARD
TZOFFSETFROM:-0400
TZOFFSETTO:-0500
TZNAME:EST
DTSTART:20241103T060000
END:STANDARD
BEGIN:DAYLIGHT
TZOFFSETFROM:-0500
TZOFFSETTO:-0400
TZNAME:EDT
DTSTART:20250309T070000
END:DAYLIGHT
BEGIN:STANDARD
TZOFFSETFROM:-0400
TZOFFSETTO:-0500
TZNAME:EST
DTSTART:20251102T060000
END:STANDARD
BEGIN:DAYLIGHT
TZOFFSETFROM:-0500
TZOFFSETTO:-0400
TZNAME:EDT
DTSTART:20260308T070000
END:DAYLIGHT
BEGIN:STANDARD
TZOFFSETFROM:-0400
TZOFFSETTO:-0500
TZNAME:EST
DTSTART:20261101T060000
END:STANDARD
END:VTIMEZONE
BEGIN:VEVENT
DTSTART;TZID=America/New_York:20250301T110000
DTEND;TZID=America/New_York:20250301T113000
DTSTAMP:20260424T032353
CREATED:20250112T033222Z
LAST-MODIFIED:20250112T033222Z
UID:14106-1740826800-1740828600@strafford.nh.gov
SUMMARY:Last Day to Register to Vote (you may register Election Day)
DESCRIPTION:
URL:https://strafford.nh.gov/event/last-day-to-register-to-vote-you-may-register-election-day/
END:VEVENT
BEGIN:VEVENT
DTSTART;TZID=America/New_York:20250301T110000
DTEND;TZID=America/New_York:20250301T113000
DTSTAMP:20260424T032353
CREATED:20250112T034024Z
LAST-MODIFIED:20250112T034024Z
UID:14111-1740826800-1740828600@strafford.nh.gov
SUMMARY:Supervisors of the Checklist
DESCRIPTION:
URL:https://strafford.nh.gov/event/supervisors-of-the-checklist-27/
END:VEVENT
BEGIN:VEVENT
DTSTART;TZID=America/New_York:20250303T190000
DTEND;TZID=America/New_York:20250303T190000
DTSTAMP:20260424T032353
CREATED:20240929T031323Z
LAST-MODIFIED:20240929T031323Z
UID:13286-1741028400-1741028400@strafford.nh.gov
SUMMARY:Conservation Commission
DESCRIPTION:
URL:https://strafford.nh.gov/event/conservation-commission-3/
END:VEVENT
BEGIN:VEVENT
DTSTART;TZID=America/New_York:20250304T173000
DTEND;TZID=America/New_York:20250304T173000
DTSTAMP:20260424T032353
CREATED:20240929T035211Z
LAST-MODIFIED:20240929T035211Z
UID:13369-1741109400-1741109400@strafford.nh.gov
SUMMARY:Board of Selectmen
DESCRIPTION:
URL:https://strafford.nh.gov/event/board-of-selectmen-8/
END:VEVENT
BEGIN:VEVENT
DTSTART;TZID=America/New_York:20250306T183000
DTEND;TZID=America/New_York:20250306T183000
DTSTAMP:20260424T032353
CREATED:20240929T032406Z
LAST-MODIFIED:20240929T032406Z
UID:13310-1741285800-1741285800@strafford.nh.gov
SUMMARY:Planning Board
DESCRIPTION:
URL:https://strafford.nh.gov/event/planning-board-3/
END:VEVENT
BEGIN:VEVENT
DTSTART;TZID=America/New_York:20250308T090000
DTEND;TZID=America/New_York:20250308T090000
DTSTAMP:20260424T032353
CREATED:20241213T233649Z
LAST-MODIFIED:20241213T233649Z
UID:13841-1741424400-1741424400@strafford.nh.gov
SUMMARY:Annual School District Meeting
DESCRIPTION:
URL:https://strafford.nh.gov/event/annual-school-district-meeting-3/
END:VEVENT
BEGIN:VEVENT
DTSTART;TZID=America/New_York:20250310T150000
DTEND;TZID=America/New_York:20250310T170000
DTSTAMP:20260424T032353
CREATED:20241110T022820Z
LAST-MODIFIED:20241110T022820Z
UID:13658-1741618800-1741626000@strafford.nh.gov
SUMMARY:Town Clerk Open for Absentee Request and Returns
DESCRIPTION:
URL:https://strafford.nh.gov/event/town-clerk-open-for-absentee-request-and-returns/
END:VEVENT
BEGIN:VEVENT
DTSTART;TZID=America/New_York:20250311T080000
DTEND;TZID=America/New_York:20250311T190000
DTSTAMP:20260424T032353
CREATED:20240929T034456Z
LAST-MODIFIED:20240929T034735Z
UID:13354-1741680000-1741719600@strafford.nh.gov
SUMMARY:Town/School Election @THall - Polls 8am-7pm
DESCRIPTION:
URL:https://strafford.nh.gov/event/town-election-thall-polls-8am-7pm/
END:VEVENT
BEGIN:VEVENT
DTSTART;TZID=America/New_York:20250311T130000
DTEND;TZID=America/New_York:20250311T130000
DTSTAMP:20260424T032353
CREATED:20250305T132622Z
LAST-MODIFIED:20250305T132622Z
UID:14438-1741698000-1741698000@strafford.nh.gov
SUMMARY:Selectmen Work Session
DESCRIPTION:
URL:https://strafford.nh.gov/event/selectmen-work-session-3/
END:VEVENT
BEGIN:VEVENT
DTSTART;TZID=America/New_York:20250315T083000
DTEND;TZID=America/New_York:20250315T083000
DTSTAMP:20260424T032353
CREATED:20240929T034554Z
LAST-MODIFIED:20240929T034554Z
UID:13356-1742027400-1742027400@strafford.nh.gov
SUMMARY:Annual Town Meeting @Strafford School
DESCRIPTION:
URL:https://strafford.nh.gov/event/annual-town-meeting-strafford-school/
END:VEVENT
BEGIN:VEVENT
DTSTART;TZID=America/New_York:20250318T173000
DTEND;TZID=America/New_York:20250318T173000
DTSTAMP:20260424T032353
CREATED:20240929T035252Z
LAST-MODIFIED:20240929T035252Z
UID:13371-1742319000-1742319000@strafford.nh.gov
SUMMARY:Board of Selectmen
DESCRIPTION:
URL:https://strafford.nh.gov/event/board-of-selectmen-9/
END:VEVENT
BEGIN:VEVENT
DTSTART;TZID=America/New_York:20250318T180000
DTEND;TZID=America/New_York:20250318T180000
DTSTAMP:20260424T032353
CREATED:20250228T151504Z
LAST-MODIFIED:20250228T151504Z
UID:14420-1742320800-1742320800@strafford.nh.gov
SUMMARY:Library SubC @ Hill Library
DESCRIPTION:
URL:https://strafford.nh.gov/event/library-subc-hill-library/
END:VEVENT
BEGIN:VEVENT
DTSTART;TZID=America/New_York:20250319T110000
DTEND;TZID=America/New_York:20250319T113000
DTSTAMP:20260424T032353
CREATED:20250215T195832Z
LAST-MODIFIED:20250215T195832Z
UID:14286-1742382000-1742383800@strafford.nh.gov
SUMMARY:Supervisors of the Checklist
DESCRIPTION:
URL:https://strafford.nh.gov/event/supervisors-of-the-checklist-28/
END:VEVENT
BEGIN:VEVENT
DTSTART;TZID=America/New_York:20250320T150000
DTEND;TZID=America/New_York:20250320T150000
DTSTAMP:20260424T032353
CREATED:20250224T124514Z
LAST-MODIFIED:20250224T124514Z
UID:14353-1742482800-1742482800@strafford.nh.gov
SUMMARY:MP ArtsE @ Hill Library
DESCRIPTION:
URL:https://strafford.nh.gov/event/mp-artse-hill-library-2/
END:VEVENT
BEGIN:VEVENT
DTSTART;TZID=America/New_York:20250320T183000
DTEND;TZID=America/New_York:20250320T183000
DTSTAMP:20260424T032353
CREATED:20240929T033302Z
LAST-MODIFIED:20240929T033302Z
UID:13334-1742495400-1742495400@strafford.nh.gov
SUMMARY:ZBA
DESCRIPTION:
URL:https://strafford.nh.gov/event/zba-3/
END:VEVENT
BEGIN:VEVENT
DTSTART;TZID=America/New_York:20250325T170000
DTEND;TZID=America/New_York:20250325T170000
DTSTAMP:20260424T032353
CREATED:20250228T150523Z
LAST-MODIFIED:20250228T151034Z
UID:14412-1742922000-1742922000@strafford.nh.gov
SUMMARY:MP Green C @ Hill Library
DESCRIPTION:
URL:https://strafford.nh.gov/event/mp-green-c-library/
END:VEVENT
END:VCALENDAR