BEGIN:VCALENDAR
VERSION:2.0
PRODID:-//Town of Strafford NH - ECPv6.15.20//NONSGML v1.0//EN
CALSCALE:GREGORIAN
METHOD:PUBLISH
X-ORIGINAL-URL:https://strafford.nh.gov
X-WR-CALDESC:Events for Town of Strafford NH
REFRESH-INTERVAL;VALUE=DURATION:PT1H
X-Robots-Tag:noindex
X-PUBLISHED-TTL:PT1H
BEGIN:VTIMEZONE
TZID:America/New_York
BEGIN:DAYLIGHT
TZOFFSETFROM:-0500
TZOFFSETTO:-0400
TZNAME:EDT
DTSTART:20240310T070000
END:DAYLIGHT
BEGIN:STANDARD
TZOFFSETFROM:-0400
TZOFFSETTO:-0500
TZNAME:EST
DTSTART:20241103T060000
END:STANDARD
BEGIN:DAYLIGHT
TZOFFSETFROM:-0500
TZOFFSETTO:-0400
TZNAME:EDT
DTSTART:20250309T070000
END:DAYLIGHT
BEGIN:STANDARD
TZOFFSETFROM:-0400
TZOFFSETTO:-0500
TZNAME:EST
DTSTART:20251102T060000
END:STANDARD
BEGIN:DAYLIGHT
TZOFFSETFROM:-0500
TZOFFSETTO:-0400
TZNAME:EDT
DTSTART:20260308T070000
END:DAYLIGHT
BEGIN:STANDARD
TZOFFSETFROM:-0400
TZOFFSETTO:-0500
TZNAME:EST
DTSTART:20261101T060000
END:STANDARD
END:VTIMEZONE
BEGIN:VEVENT
DTSTART;TZID=America/New_York:20250401T173000
DTEND;TZID=America/New_York:20250401T173000
DTSTAMP:20260424T032353
CREATED:20240929T035331Z
LAST-MODIFIED:20240929T035331Z
UID:13374-1743528600-1743528600@strafford.nh.gov
SUMMARY:Board of Selectmen
DESCRIPTION:
URL:https://strafford.nh.gov/event/board-of-selectmen-10/
END:VEVENT
BEGIN:VEVENT
DTSTART;TZID=America/New_York:20250403T183000
DTEND;TZID=America/New_York:20250403T183000
DTSTAMP:20260424T032353
CREATED:20240929T032453Z
LAST-MODIFIED:20240929T032453Z
UID:13312-1743705000-1743705000@strafford.nh.gov
SUMMARY:Planning Board
DESCRIPTION:
URL:https://strafford.nh.gov/event/planning-board-4/
END:VEVENT
BEGIN:VEVENT
DTSTART;TZID=America/New_York:20250407T190000
DTEND;TZID=America/New_York:20250407T190000
DTSTAMP:20260424T032353
CREATED:20240929T031417Z
LAST-MODIFIED:20240929T031417Z
UID:13288-1744052400-1744052400@strafford.nh.gov
SUMMARY:Conservation Commission
DESCRIPTION:
URL:https://strafford.nh.gov/event/conservation-commission-4/
END:VEVENT
BEGIN:VEVENT
DTSTART;TZID=America/New_York:20250414T150000
DTEND;TZID=America/New_York:20250414T153000
DTSTAMP:20260424T032353
CREATED:20250319T233102Z
LAST-MODIFIED:20250319T233102Z
UID:14513-1744642800-1744644600@strafford.nh.gov
SUMMARY:Supervisors of the Checklist
DESCRIPTION:
URL:https://strafford.nh.gov/event/supervisors-of-the-checklist-29/
END:VEVENT
BEGIN:VEVENT
DTSTART;TZID=America/New_York:20250415T173000
DTEND;TZID=America/New_York:20250415T173000
DTSTAMP:20260424T032353
CREATED:20240929T035410Z
LAST-MODIFIED:20240929T035410Z
UID:13376-1744738200-1744738200@strafford.nh.gov
SUMMARY:Board of Selectmen
DESCRIPTION:
URL:https://strafford.nh.gov/event/board-of-selectmen-11/
END:VEVENT
BEGIN:VEVENT
DTSTART;TZID=America/New_York:20250415T180000
DTEND;TZID=America/New_York:20250415T180000
DTSTAMP:20260424T032353
CREATED:20250327T143626Z
LAST-MODIFIED:20250327T143626Z
UID:14570-1744740000-1744740000@strafford.nh.gov
SUMMARY:MP SubC Library Committee @Library
DESCRIPTION:
URL:https://strafford.nh.gov/event/mp-subc-library-committee-library/
END:VEVENT
BEGIN:VEVENT
DTSTART;TZID=America/New_York:20250417T150000
DTEND;TZID=America/New_York:20250417T160000
DTSTAMP:20260424T032353
CREATED:20250324T025008Z
LAST-MODIFIED:20250324T025008Z
UID:14540-1744902000-1744905600@strafford.nh.gov
SUMMARY:MP SubC Arts & Events @ Hill Library
DESCRIPTION:
URL:https://strafford.nh.gov/event/mp-subc-arts-events-hill-library/
END:VEVENT
BEGIN:VEVENT
DTSTART;TZID=America/New_York:20250417T183000
DTEND;TZID=America/New_York:20250417T183000
DTSTAMP:20260424T032353
CREATED:20240929T033502Z
LAST-MODIFIED:20250416T234449Z
UID:13336-1744914600-1744914600@strafford.nh.gov
SUMMARY:ZBA - MEETING CANCELLED
DESCRIPTION:
URL:https://strafford.nh.gov/event/zba-4/
END:VEVENT
BEGIN:VEVENT
DTSTART;VALUE=DATE:20250420
DTEND;VALUE=DATE:20250421
DTSTAMP:20260424T032353
CREATED:20241127T164300Z
LAST-MODIFIED:20241127T164300Z
UID:13750-1745107200-1745193599@strafford.nh.gov
SUMMARY:Recycling Center Closed - Easter
DESCRIPTION:
URL:https://strafford.nh.gov/event/recycling-center-closed-easter/
END:VEVENT
BEGIN:VEVENT
DTSTART;TZID=America/New_York:20250422T170000
DTEND;TZID=America/New_York:20250422T170000
DTSTAMP:20260424T032353
CREATED:20250421T142804Z
LAST-MODIFIED:20250421T143250Z
UID:14635-1745341200-1745341200@strafford.nh.gov
SUMMARY:MPSubC Green Committee @Hill Library
DESCRIPTION:
URL:https://strafford.nh.gov/event/mpsubc-green-committee/
END:VEVENT
BEGIN:VEVENT
DTSTART;TZID=America/New_York:20250429T160000
DTEND;TZID=America/New_York:20250429T160000
DTSTAMP:20260424T032353
CREATED:20250423T150641Z
LAST-MODIFIED:20250423T150641Z
UID:14647-1745942400-1745942400@strafford.nh.gov
SUMMARY:Building Department Closed April 24th - May 4th
DESCRIPTION:
URL:https://strafford.nh.gov/event/building-department-closed-april-24th-may-4th/
END:VEVENT
BEGIN:VEVENT
DTSTART;TZID=America/New_York:20250429T173000
DTEND;TZID=America/New_York:20250429T173000
DTSTAMP:20260424T032353
CREATED:20240929T035504Z
LAST-MODIFIED:20250402T003405Z
UID:13378-1745947800-1745947800@strafford.nh.gov
SUMMARY:Board of Selectmen Meeting Cancelled
DESCRIPTION:
URL:https://strafford.nh.gov/event/board-of-selectmen-12/
END:VEVENT
END:VCALENDAR