BEGIN:VCALENDAR
VERSION:2.0
PRODID:-//Town of Strafford NH - ECPv6.15.20//NONSGML v1.0//EN
CALSCALE:GREGORIAN
METHOD:PUBLISH
X-WR-CALNAME:Town of Strafford NH
X-ORIGINAL-URL:https://strafford.nh.gov
X-WR-CALDESC:Events for Town of Strafford NH
REFRESH-INTERVAL;VALUE=DURATION:PT1H
X-Robots-Tag:noindex
X-PUBLISHED-TTL:PT1H
BEGIN:VTIMEZONE
TZID:America/New_York
BEGIN:DAYLIGHT
TZOFFSETFROM:-0500
TZOFFSETTO:-0400
TZNAME:EDT
DTSTART:20240310T070000
END:DAYLIGHT
BEGIN:STANDARD
TZOFFSETFROM:-0400
TZOFFSETTO:-0500
TZNAME:EST
DTSTART:20241103T060000
END:STANDARD
BEGIN:DAYLIGHT
TZOFFSETFROM:-0500
TZOFFSETTO:-0400
TZNAME:EDT
DTSTART:20250309T070000
END:DAYLIGHT
BEGIN:STANDARD
TZOFFSETFROM:-0400
TZOFFSETTO:-0500
TZNAME:EST
DTSTART:20251102T060000
END:STANDARD
BEGIN:DAYLIGHT
TZOFFSETFROM:-0500
TZOFFSETTO:-0400
TZNAME:EDT
DTSTART:20260308T070000
END:DAYLIGHT
BEGIN:STANDARD
TZOFFSETFROM:-0400
TZOFFSETTO:-0500
TZNAME:EST
DTSTART:20261101T060000
END:STANDARD
END:VTIMEZONE
BEGIN:VEVENT
DTSTART;TZID=America/New_York:20250501T183000
DTEND;TZID=America/New_York:20250501T183000
DTSTAMP:20260423T202113
CREATED:20240929T032536Z
LAST-MODIFIED:20240929T032536Z
UID:13314-1746124200-1746124200@strafford.nh.gov
SUMMARY:Planning Board
DESCRIPTION:
URL:https://strafford.nh.gov/event/planning-board-5/
END:VEVENT
BEGIN:VEVENT
DTSTART;TZID=America/New_York:20250505T190000
DTEND;TZID=America/New_York:20250505T190000
DTSTAMP:20260423T202113
CREATED:20240929T031503Z
LAST-MODIFIED:20240929T031503Z
UID:13290-1746471600-1746471600@strafford.nh.gov
SUMMARY:Conservation Commission
DESCRIPTION:
URL:https://strafford.nh.gov/event/conservation-commission-5/
END:VEVENT
BEGIN:VEVENT
DTSTART;TZID=America/New_York:20250513T173000
DTEND;TZID=America/New_York:20250513T173000
DTSTAMP:20260423T202113
CREATED:20240929T035553Z
LAST-MODIFIED:20240929T035553Z
UID:13380-1747157400-1747157400@strafford.nh.gov
SUMMARY:Board of Selectmen
DESCRIPTION:
URL:https://strafford.nh.gov/event/board-of-selectmen-13/
END:VEVENT
BEGIN:VEVENT
DTSTART;TZID=America/New_York:20250515T150000
DTEND;TZID=America/New_York:20250515T160000
DTSTAMP:20260423T202113
CREATED:20250424T030808Z
LAST-MODIFIED:20250424T030808Z
UID:14654-1747321200-1747324800@strafford.nh.gov
SUMMARY:MPSubC ArtsE @ Hill Library
DESCRIPTION:
URL:https://strafford.nh.gov/event/mpsubc-artse-hill-library-3/
END:VEVENT
BEGIN:VEVENT
DTSTART;TZID=America/New_York:20250515T183000
DTEND;TZID=America/New_York:20250515T183000
DTSTAMP:20260423T202113
CREATED:20240929T033546Z
LAST-MODIFIED:20240929T033546Z
UID:13338-1747333800-1747333800@strafford.nh.gov
SUMMARY:ZBA
DESCRIPTION:
URL:https://strafford.nh.gov/event/zba-5/
END:VEVENT
BEGIN:VEVENT
DTSTART;TZID=America/New_York:20250520T180000
DTEND;TZID=America/New_York:20250520T180000
DTSTAMP:20260423T202113
CREATED:20250424T031041Z
LAST-MODIFIED:20250424T031041Z
UID:14657-1747764000-1747764000@strafford.nh.gov
SUMMARY:MPSubC Library Comm @ Hill Library
DESCRIPTION:
URL:https://strafford.nh.gov/event/mpsubc-library-comm-hill-library/
END:VEVENT
BEGIN:VEVENT
DTSTART;VALUE=DATE:20250526
DTEND;VALUE=DATE:20250527
DTSTAMP:20260423T202113
CREATED:20240929T043137Z
LAST-MODIFIED:20240929T043137Z
UID:13420-1748217600-1748303999@strafford.nh.gov
SUMMARY:Town Hall Closed - Memorial Day
DESCRIPTION:
URL:https://strafford.nh.gov/event/town-hall-closed-memorial-day-3/
END:VEVENT
BEGIN:VEVENT
DTSTART;TZID=America/New_York:20250526T113000
DTEND;TZID=America/New_York:20250526T113000
DTSTAMP:20260423T202113
CREATED:20250514T230005Z
LAST-MODIFIED:20250514T230005Z
UID:14759-1748259000-1748259000@strafford.nh.gov
SUMMARY:Memorial Day Parade beginning Beaver Dam Estates
DESCRIPTION:
URL:https://strafford.nh.gov/event/memorial-day-parade-beginning-beaver-dam-estates/
END:VEVENT
BEGIN:VEVENT
DTSTART;TZID=America/New_York:20250527T170000
DTEND;TZID=America/New_York:20250527T170000
DTSTAMP:20260423T202113
CREATED:20250509T122711Z
LAST-MODIFIED:20250509T122809Z
UID:14710-1748365200-1748365200@strafford.nh.gov
SUMMARY:MPSubC Green Committee @Hill Library
DESCRIPTION:
URL:https://strafford.nh.gov/event/mpsubc-green-committee-library-3/
END:VEVENT
BEGIN:VEVENT
DTSTART;TZID=America/New_York:20250527T173000
DTEND;TZID=America/New_York:20250527T173000
DTSTAMP:20260423T202113
CREATED:20240929T035635Z
LAST-MODIFIED:20250514T140002Z
UID:13382-1748367000-1748367000@strafford.nh.gov
SUMMARY:Board of Selectmen Meeting Cancelled
DESCRIPTION:
URL:https://strafford.nh.gov/event/board-of-selectmen-14/
END:VEVENT
BEGIN:VEVENT
DTSTART;TZID=America/New_York:20250531T083000
DTEND;TZID=America/New_York:20250531T123000
DTSTAMP:20260423T202113
CREATED:20250424T032115Z
LAST-MODIFIED:20250424T032115Z
UID:14663-1748680200-1748694600@strafford.nh.gov
SUMMARY:Hazardous Waste Day @ Turnkey LF Rochester
DESCRIPTION:
URL:https://strafford.nh.gov/event/hazardous-waste-day-turnkey-lf-rochester/
END:VEVENT
END:VCALENDAR