BEGIN:VCALENDAR
VERSION:2.0
PRODID:-//Town of Strafford NH - ECPv6.15.20//NONSGML v1.0//EN
CALSCALE:GREGORIAN
METHOD:PUBLISH
X-ORIGINAL-URL:https://strafford.nh.gov
X-WR-CALDESC:Events for Town of Strafford NH
REFRESH-INTERVAL;VALUE=DURATION:PT1H
X-Robots-Tag:noindex
X-PUBLISHED-TTL:PT1H
BEGIN:VTIMEZONE
TZID:America/New_York
BEGIN:DAYLIGHT
TZOFFSETFROM:-0500
TZOFFSETTO:-0400
TZNAME:EDT
DTSTART:20240310T070000
END:DAYLIGHT
BEGIN:STANDARD
TZOFFSETFROM:-0400
TZOFFSETTO:-0500
TZNAME:EST
DTSTART:20241103T060000
END:STANDARD
BEGIN:DAYLIGHT
TZOFFSETFROM:-0500
TZOFFSETTO:-0400
TZNAME:EDT
DTSTART:20250309T070000
END:DAYLIGHT
BEGIN:STANDARD
TZOFFSETFROM:-0400
TZOFFSETTO:-0500
TZNAME:EST
DTSTART:20251102T060000
END:STANDARD
BEGIN:DAYLIGHT
TZOFFSETFROM:-0500
TZOFFSETTO:-0400
TZNAME:EDT
DTSTART:20260308T070000
END:DAYLIGHT
BEGIN:STANDARD
TZOFFSETFROM:-0400
TZOFFSETTO:-0500
TZNAME:EST
DTSTART:20261101T060000
END:STANDARD
END:VTIMEZONE
BEGIN:VEVENT
DTSTART;TZID=America/New_York:20250804T190000
DTEND;TZID=America/New_York:20250804T190000
DTSTAMP:20260423T161130
CREATED:20240929T031818Z
LAST-MODIFIED:20240929T031818Z
UID:13296-1754334000-1754334000@strafford.nh.gov
SUMMARY:Conservation Commission
DESCRIPTION:
URL:https://strafford.nh.gov/event/conservation-commission-8/
END:VEVENT
BEGIN:VEVENT
DTSTART;TZID=America/New_York:20250805T173000
DTEND;TZID=America/New_York:20250805T173000
DTSTAMP:20260423T161130
CREATED:20240929T040033Z
LAST-MODIFIED:20240929T040033Z
UID:13392-1754415000-1754415000@strafford.nh.gov
SUMMARY:Board of Selectmen
DESCRIPTION:
URL:https://strafford.nh.gov/event/board-of-selectmen-19/
END:VEVENT
BEGIN:VEVENT
DTSTART;TZID=America/New_York:20250807T183000
DTEND;TZID=America/New_York:20250807T183000
DTSTAMP:20260423T161130
CREATED:20240929T032748Z
LAST-MODIFIED:20240929T032748Z
UID:13320-1754591400-1754591400@strafford.nh.gov
SUMMARY:Planning Board
DESCRIPTION:
URL:https://strafford.nh.gov/event/planning-board-8/
END:VEVENT
BEGIN:VEVENT
DTSTART;TZID=America/New_York:20250819T173000
DTEND;TZID=America/New_York:20250819T173000
DTSTAMP:20260423T161130
CREATED:20240929T040136Z
LAST-MODIFIED:20240929T040136Z
UID:13394-1755624600-1755624600@strafford.nh.gov
SUMMARY:Board of Selectmen
DESCRIPTION:
URL:https://strafford.nh.gov/event/board-of-selectmen-20/
END:VEVENT
BEGIN:VEVENT
DTSTART;TZID=America/New_York:20250821T150000
DTEND;TZID=America/New_York:20250821T160000
DTSTAMP:20260423T161130
CREATED:20250718T061159Z
LAST-MODIFIED:20250718T061159Z
UID:15002-1755788400-1755792000@strafford.nh.gov
SUMMARY:MPArtsE @ Hill Library
DESCRIPTION:
URL:https://strafford.nh.gov/event/mpartse-hill-library-2/
END:VEVENT
BEGIN:VEVENT
DTSTART;TZID=America/New_York:20250821T183000
DTEND;TZID=America/New_York:20250821T183000
DTSTAMP:20260423T161130
CREATED:20240929T033804Z
LAST-MODIFIED:20250821T211332Z
UID:13344-1755801000-1755801000@strafford.nh.gov
SUMMARY:ZBA - NO MEETING
DESCRIPTION:
URL:https://strafford.nh.gov/event/zba-8/
END:VEVENT
BEGIN:VEVENT
DTSTART;TZID=America/New_York:20250826T090000
DTEND;TZID=America/New_York:20250826T120000
DTSTAMP:20260423T161130
CREATED:20250723T175444Z
LAST-MODIFIED:20250723T175444Z
UID:15028-1756198800-1756209600@strafford.nh.gov
SUMMARY:Community Action Program @ Town Hall
DESCRIPTION:
URL:https://strafford.nh.gov/event/community-action-program-town-hall/
END:VEVENT
END:VCALENDAR