BEGIN:VCALENDAR
VERSION:2.0
PRODID:-//Town of Strafford NH - ECPv6.15.20//NONSGML v1.0//EN
CALSCALE:GREGORIAN
METHOD:PUBLISH
X-ORIGINAL-URL:https://strafford.nh.gov
X-WR-CALDESC:Events for Town of Strafford NH
REFRESH-INTERVAL;VALUE=DURATION:PT1H
X-Robots-Tag:noindex
X-PUBLISHED-TTL:PT1H
BEGIN:VTIMEZONE
TZID:America/New_York
BEGIN:DAYLIGHT
TZOFFSETFROM:-0500
TZOFFSETTO:-0400
TZNAME:EDT
DTSTART:20250309T070000
END:DAYLIGHT
BEGIN:STANDARD
TZOFFSETFROM:-0400
TZOFFSETTO:-0500
TZNAME:EST
DTSTART:20251102T060000
END:STANDARD
BEGIN:DAYLIGHT
TZOFFSETFROM:-0500
TZOFFSETTO:-0400
TZNAME:EDT
DTSTART:20260308T070000
END:DAYLIGHT
BEGIN:STANDARD
TZOFFSETFROM:-0400
TZOFFSETTO:-0500
TZNAME:EST
DTSTART:20261101T060000
END:STANDARD
BEGIN:DAYLIGHT
TZOFFSETFROM:-0500
TZOFFSETTO:-0400
TZNAME:EDT
DTSTART:20270314T070000
END:DAYLIGHT
BEGIN:STANDARD
TZOFFSETFROM:-0400
TZOFFSETTO:-0500
TZNAME:EST
DTSTART:20271107T060000
END:STANDARD
END:VTIMEZONE
BEGIN:VEVENT
DTSTART;TZID=America/New_York:20260302T190000
DTEND;TZID=America/New_York:20260302T190000
DTSTAMP:20260421T033734
CREATED:20250806T161008Z
LAST-MODIFIED:20250806T161008Z
UID:15048-1772478000-1772478000@strafford.nh.gov
SUMMARY:Conservation Commission
DESCRIPTION:
URL:https://strafford.nh.gov/event/conservation-commission-15/
END:VEVENT
BEGIN:VEVENT
DTSTART;TZID=America/New_York:20260303T173000
DTEND;TZID=America/New_York:20260303T173000
DTSTAMP:20260421T033734
CREATED:20250807T003933Z
LAST-MODIFIED:20250807T003933Z
UID:15136-1772559000-1772559000@strafford.nh.gov
SUMMARY:Board of Selectmen Meeting
DESCRIPTION:
URL:https://strafford.nh.gov/event/board-of-selectmen-meeting-77/
END:VEVENT
BEGIN:VEVENT
DTSTART;TZID=America/New_York:20260305T183000
DTEND;TZID=America/New_York:20260305T183000
DTSTAMP:20260421T033734
CREATED:20250806T171933Z
LAST-MODIFIED:20250806T171933Z
UID:15073-1772735400-1772735400@strafford.nh.gov
SUMMARY:Planning Board
DESCRIPTION:
URL:https://strafford.nh.gov/event/planning-board-17/
END:VEVENT
BEGIN:VEVENT
DTSTART;TZID=America/New_York:20260307T090000
DTEND;TZID=America/New_York:20260307T090000
DTSTAMP:20260421T033734
CREATED:20250807T003334Z
LAST-MODIFIED:20250807T003334Z
UID:15126-1772874000-1772874000@strafford.nh.gov
SUMMARY:Annual School District Meeting @ Strafford School Gym
DESCRIPTION:
URL:https://strafford.nh.gov/event/annual-school-district-meeting-strafford-school-gym/
END:VEVENT
BEGIN:VEVENT
DTSTART;TZID=America/New_York:20260309T150000
DTEND;TZID=America/New_York:20260309T170000
DTSTAMP:20260421T033734
CREATED:20251023T141913Z
LAST-MODIFIED:20251023T141913Z
UID:15492-1773068400-1773075600@strafford.nh.gov
SUMMARY:Town Clerk Open Additional Hours for Absentee Request
DESCRIPTION:
URL:https://strafford.nh.gov/event/town-clerk-open-additional-hours-for-absentee-request/
END:VEVENT
BEGIN:VEVENT
DTSTART;TZID=America/New_York:20260310T080000
DTEND;TZID=America/New_York:20260310T190000
DTSTAMP:20260421T033734
CREATED:20250807T002404Z
LAST-MODIFIED:20250807T002404Z
UID:15120-1773129600-1773169200@strafford.nh.gov
SUMMARY:Town / School Election @ Town Hall
DESCRIPTION:
URL:https://strafford.nh.gov/event/town-school-election-town-hall/
END:VEVENT
BEGIN:VEVENT
DTSTART;TZID=America/New_York:20260310T100000
DTEND;TZID=America/New_York:20260310T100000
DTSTAMP:20260421T033734
CREATED:20260305T222028Z
LAST-MODIFIED:20260305T222028Z
UID:16570-1773136800-1773136800@strafford.nh.gov
SUMMARY:Board of Selectmen Work Session
DESCRIPTION:
URL:https://strafford.nh.gov/event/board-of-selectmen-work-session-14/
END:VEVENT
BEGIN:VEVENT
DTSTART;TZID=America/New_York:20260314T083000
DTEND;TZID=America/New_York:20260314T083000
DTSTAMP:20260421T033734
CREATED:20250807T003128Z
LAST-MODIFIED:20250807T003128Z
UID:15124-1773477000-1773477000@strafford.nh.gov
SUMMARY:Annual Town Meeting @ Strafford School Gym
DESCRIPTION:
URL:https://strafford.nh.gov/event/annual-town-meeting-strafford-school-gym/
END:VEVENT
BEGIN:VEVENT
DTSTART;TZID=America/New_York:20260317T173000
DTEND;TZID=America/New_York:20260317T173000
DTSTAMP:20260421T033734
CREATED:20250807T004037Z
LAST-MODIFIED:20260311T121348Z
UID:15138-1773768600-1773768600@strafford.nh.gov
SUMMARY:Board of Selectmen Meeting - CANCELLED
DESCRIPTION:
URL:https://strafford.nh.gov/event/board-of-selectmen-meeting-78/
END:VEVENT
BEGIN:VEVENT
DTSTART;TZID=America/New_York:20260319T150000
DTEND;TZID=America/New_York:20260319T150000
DTSTAMP:20260421T033734
CREATED:20260222T051903Z
LAST-MODIFIED:20260224T160750Z
UID:16497-1773932400-1773932400@strafford.nh.gov
SUMMARY:MPArtsE @ Hill Library
DESCRIPTION:
URL:https://strafford.nh.gov/event/mpartse/
END:VEVENT
BEGIN:VEVENT
DTSTART;TZID=America/New_York:20260319T183000
DTEND;TZID=America/New_York:20260319T183000
DTSTAMP:20260421T033734
CREATED:20250806T173931Z
LAST-MODIFIED:20260320T014129Z
UID:15097-1773945000-1773945000@strafford.nh.gov
SUMMARY:NO ZBA Meeting
DESCRIPTION:
URL:https://strafford.nh.gov/event/zba-15/
END:VEVENT
BEGIN:VEVENT
DTSTART;TZID=America/New_York:20260324T170000
DTEND;TZID=America/New_York:20260324T170000
DTSTAMP:20260421T033734
CREATED:20260323T131558Z
LAST-MODIFIED:20260323T131558Z
UID:16747-1774371600-1774371600@strafford.nh.gov
SUMMARY:MPGreenC @Hill Library
DESCRIPTION:
URL:https://strafford.nh.gov/event/mpgreenc-hill-library-2/
END:VEVENT
BEGIN:VEVENT
DTSTART;TZID=America/New_York:20260324T190000
DTEND;TZID=America/New_York:20260324T193000
DTSTAMP:20260421T033734
CREATED:20260301T162438Z
LAST-MODIFIED:20260301T162438Z
UID:16535-1774378800-1774380600@strafford.nh.gov
SUMMARY:Supervisors of the Checklist
DESCRIPTION:
URL:https://strafford.nh.gov/event/supervisors-of-the-checklist-34/
END:VEVENT
BEGIN:VEVENT
DTSTART;TZID=America/New_York:20260331T173000
DTEND;TZID=America/New_York:20260331T173000
DTSTAMP:20260421T033734
CREATED:20250807T004133Z
LAST-MODIFIED:20250807T004133Z
UID:15140-1774978200-1774978200@strafford.nh.gov
SUMMARY:Board of Selectmen Meeting
DESCRIPTION:
URL:https://strafford.nh.gov/event/board-of-selectmen-meeting-79/
END:VEVENT
END:VCALENDAR